BEGIN:VCALENDAR
VERSION:2.0
PRODID:-//PUB 365 - ECPv4.9.8//NONSGML v1.0//EN
CALSCALE:GREGORIAN
METHOD:PUBLISH
X-WR-CALNAME:PUB 365
X-ORIGINAL-URL:http://pub365lv.com
X-WR-CALDESC:Events for PUB 365
BEGIN:VTIMEZONE
TZID:UTC
BEGIN:STANDARD
TZOFFSETFROM:+0000
TZOFFSETTO:+0000
TZNAME:UTC
DTSTART:20210101T000000
END:STANDARD
END:VTIMEZONE
BEGIN:VEVENT
DTSTART;TZID="UTC":20210201T000100
DTEND;TZID="UTC":20210228T235900
DTSTAMP:20260421T101102
CREATED:20210131T051807Z
LAST-MODIFIED:20210131T051807Z
UID:460-1612137660-1614556740@pub365lv.com
SUMMARY:PUB 365 “Great Beer Race”
DESCRIPTION:Log the most beers through the PUB 365 Beer Club app during the promotional Race period to win! \nOfficial Rules \n
URL:http://pub365lv.com/event/pub-365-great-beer-race/
ATTACH;FMTTYPE=image/jpeg:http://pub365lv.com/wp-content/uploads/2021/01/144154916_1824162374410549_5357030696121472129_n.jpg
END:VEVENT
END:VCALENDAR