BEGIN:VCALENDAR
VERSION:2.0
PRODID:-//PUB 365 - ECPv4.9.8//NONSGML v1.0//EN
CALSCALE:GREGORIAN
METHOD:PUBLISH
X-WR-CALNAME:PUB 365
X-ORIGINAL-URL:http://pub365lv.com
X-WR-CALDESC:Events for PUB 365
BEGIN:VTIMEZONE
TZID:UTC
BEGIN:STANDARD
TZOFFSETFROM:+0000
TZOFFSETTO:+0000
TZNAME:UTC
DTSTART:20200101T000000
END:STANDARD
END:VTIMEZONE
BEGIN:VEVENT
DTSTART;TZID="UTC":20201231T113000
DTEND;TZID="UTC":20201231T235900
DTSTAMP:20260421T113324
CREATED:20200408T021101Z
LAST-MODIFIED:20200408T021101Z
UID:449-1609414200-1609459140@pub365lv.com
SUMMARY:THIRSTY THURSDAY $3.65 BEER BLOWOUT
DESCRIPTION:Draw for your beer…you might score something rare and awesome for just $3.65! \n
URL:http://pub365lv.com/event/thirsty-thursday-3-65-beer-blowout-8/
LOCATION:PUB 365\, 255 E Flamingo Rd\, Las Vegas\, NV 89169\, USA\, Las Vegas\, NV\, 89169\, United States
ATTACH;FMTTYPE=image/jpeg:http://pub365lv.com/wp-content/uploads/2020/04/51339481_1205738832919576_1164690866049122304_o.jpg
END:VEVENT
END:VCALENDAR